0.250000
0.000000
0.000000
-0.250000
628199.981006
4713539.886963
