0.250000
0.000000
0.000000
-0.250000
638559.981006
4709109.886963
