0.250000
0.000000
0.000000
-0.250000
648529.981006
4723209.886963
