0.250000
0.000000
0.000000
-0.250000
648579.981006
4720889.886963
