0.250000
0.000000
0.000000
-0.250000
546159.981006
4705519.886963
