0.250000
0.000000
0.000000
-0.250000
556429.981006
4705609.886963
