0.250000
0.000000
0.000000
-0.250000
563279.981006
4705669.886963
