0.250000
0.000000
0.000000
-0.250000
580399.981006
4705849.886963
