0.250000
0.000000
0.000000
-0.250000
590669.981006
4705979.886963
