0.250000
0.000000
0.000000
-0.250000
573579.981006
4703459.886963
