0.250000
0.000000
0.000000
-0.250000
566749.981006
4701069.886963
