0.250000
0.000000
0.000000
-0.250000
573649.981006
4696519.886963
