0.250000
0.000000
0.000000
-0.250000
573719.981006
4689579.886963
