0.250000
0.000000
0.000000
-0.250000
604399.981006
4703869.886963
