0.250000
0.000000
0.000000
-0.250000
611249.981006
4703979.886963
