0.250000
0.000000
0.000000
-0.250000
601009.981006
4701499.886963
