0.250000
0.000000
0.000000
-0.250000
597679.981006
4694509.886963
