0.250000
0.000000
0.000000
-0.250000
601109.981006
4694559.886963
