0.250000
0.000000
0.000000
-0.250000
607969.981006
4694669.886963
