0.250000
0.000000
0.000000
-0.250000
604609.981006
4689989.886963
