0.250000
0.000000
0.000000
-0.250000
618329.981006
4690209.886963
