0.250000
0.000000
0.000000
-0.250000
621479.981006
4706469.886963
