0.250000
0.000000
0.000000
-0.250000
628369.981006
4704279.886963
