0.250000
0.000000
0.000000
-0.250000
638649.981006
4704479.886963
