0.250000
0.000000
0.000000
-0.250000
621599.981006
4699529.886963
