0.250000
0.000000
0.000000
-0.250000
621639.981006
4697219.886963
