0.250000
0.000000
0.000000
-0.250000
635399.981006
4695159.886963
