0.250000
0.000000
0.000000
-0.250000
621729.981006
4692589.886963
