0.250000
0.000000
0.000000
-0.250000
635449.981006
4692849.886963
