0.250000
0.000000
0.000000
-0.250000
635489.981006
4690529.886963
