0.250000
0.000000
0.000000
-0.250000
659249.981006
4702619.886963
