0.250000
0.000000
0.000000
-0.250000
649019.981006
4700069.886963
