0.250000
0.000000
0.000000
-0.250000
655879.981006
4700229.886963
