0.250000
0.000000
0.000000
-0.250000
659299.981006
4700309.886963
