0.250000
0.000000
0.000000
-0.250000
604679.981006
4685359.886963
