0.250000
0.000000
0.000000
-0.250000
608109.981006
4685419.886963
