0.250000
0.000000
0.000000
-0.250000
614979.981006
4685529.886963
