0.250000
0.000000
0.000000
-0.250000
597869.981006
4680629.886963
