0.250000
0.000000
0.000000
-0.250000
597909.981006
4678319.886963
