0.250000
0.000000
0.000000
-0.250000
618529.981006
4678649.886963
