0.250000
0.000000
0.000000
-0.250000
594499.981006
4675959.886963
