0.250000
0.000000
0.000000
-0.250000
611689.981006
4676219.886963
