0.250000
0.000000
0.000000
-0.250000
615129.981006
4676279.886963
