0.250000
0.000000
0.000000
-0.250000
608289.981006
4673849.886963
