0.250000
0.000000
0.000000
-0.250000
604879.981006
4671479.886963
