1.000000
0.000000
0.000000
-1.000000
579709.500000
4761469.500000
