1.000000
0.000000
0.000000
-1.000000
566169.500000
4756679.500000
