1.000000
0.000000
0.000000
-1.000000
613669.500000
4761979.500000
