1.000000
0.000000
0.000000
-1.000000
593479.500000
4747769.500000
