1.000000
0.000000
0.000000
-1.000000
620619.500000
4752849.500000
